BEGIN:VCALENDAR
VERSION:2.0
PRODID:-//d.a.f. coaching - ECPv6.15.20//NONSGML v1.0//EN
CALSCALE:GREGORIAN
METHOD:PUBLISH
X-WR-CALNAME:d.a.f. coaching
X-ORIGINAL-URL:https://dafcoaching.com
X-WR-CALDESC:Veranstaltungen im d.a.f. coaching
REFRESH-INTERVAL;VALUE=DURATION:PT1H
X-Robots-Tag:noindex
X-PUBLISHED-TTL:PT1H
BEGIN:VTIMEZONE
TZID:Europe/Berlin
BEGIN:DAYLIGHT
TZOFFSETFROM:+0100
TZOFFSETTO:+0200
TZNAME:CEST
DTSTART:20230326T010000
END:DAYLIGHT
BEGIN:STANDARD
TZOFFSETFROM:+0200
TZOFFSETTO:+0100
TZNAME:CET
DTSTART:20231029T010000
END:STANDARD
BEGIN:DAYLIGHT
TZOFFSETFROM:+0100
TZOFFSETTO:+0200
TZNAME:CEST
DTSTART:20240331T010000
END:DAYLIGHT
BEGIN:STANDARD
TZOFFSETFROM:+0200
TZOFFSETTO:+0100
TZNAME:CET
DTSTART:20241027T010000
END:STANDARD
BEGIN:DAYLIGHT
TZOFFSETFROM:+0100
TZOFFSETTO:+0200
TZNAME:CEST
DTSTART:20250330T010000
END:DAYLIGHT
BEGIN:STANDARD
TZOFFSETFROM:+0200
TZOFFSETTO:+0100
TZNAME:CET
DTSTART:20251026T010000
END:STANDARD
BEGIN:DAYLIGHT
TZOFFSETFROM:+0100
TZOFFSETTO:+0200
TZNAME:CEST
DTSTART:20260329T010000
END:DAYLIGHT
BEGIN:STANDARD
TZOFFSETFROM:+0200
TZOFFSETTO:+0100
TZNAME:CET
DTSTART:20261025T010000
END:STANDARD
END:VTIMEZONE
BEGIN:VEVENT
DTSTART;TZID=Europe/Berlin:20250612T100000
DTEND;TZID=Europe/Berlin:20250615T170000
DTSTAMP:20260422T152334
CREATED:20250204T165031Z
LAST-MODIFIED:20250204T165031Z
UID:217-1749722400-1750006800@dafcoaching.com
SUMMARY:PSYCH-K® Advanced Workshop in Winterthur
DESCRIPTION:Termin \nFreitag bis Sonntag\, 12. bis 15. Juni 2025\n \n  \nZeit \nDonnerstag\, 10:00 – 18:00 Uhr \nFreitag\, 10:00 – 18:00 Uhr \nSamstag\, 9:0o – 17:00 Uhr \nSonntag: 9:00 bis ca. 16:00 Uhr \n  \nVeranstaltungsort \nMehrzweckanlage Teuchelweiher\nZeughausstrasse 65/67/69\n8400 Winterthur\nSchweiz \n \nBeschreibung \n\n\n\n\nDer PSYCH-K Advanced Workshop erweitert die Fähigkeiten aus dem Basic Workshop. Er liefert einerseits zusätzliche\, machtvolle und leistungsfähige Werkzeuge für die Bearbeitung von Glaubenssätzen und stellt andererseits eine tief greifende\, persönliche Erfahrung dar. \nDer Workshop ist für jeden geeignet und die optimale Ergänzung für Trainer\, Coaches\, Psychologen und Personen in heilenden Berufen. \n\n\nANMERKUNG: Der PSYCH-K Basic Workshop ist eine Vorbedingung für die Teilnahme am Advanced Workshop. \nWas Dich im PSYCH-K® Advanced Workshop erwartet: \nCORE BELIEF BALANCE (Balance der Innersten Überzeugungen)\nIn diesem Prozess werden 13 „Innerste Überzeugungen“ angesprochen\, welche uns oft davon abhalten unser volles Potential im Leben zu nutzen wenn sie nicht in Balance sind. Es ist ein Prozess\, bei dem allgemeine Überzeugungen verändert werden und der Körper und Geist auf einen beschleunigten Wandel vorbereitet. \nBELIEF POINTS (Überzeugungspunkte)\nDu lernst 12 aus der Akupressur abgeleitete “Energiepunkte” auf dem Körper kennen\, die jeweils eine Schlüsselüberzeugung repräsentieren und die Dir wertvolle Informationen darüber geben wie Du Dich selbst in einer gegebenen Situation limitierst. Diese Punkte ermöglichen es Dir ganz leicht auf Überzeugungen zuzugreifen und diese für gewöhnlich in Sekunden zu verändern. \n\n\nLIFE BONDING BALANCE (Lebensbindungsbalance)\nOft hindert uns das “Trauma der Geburt” und die “Angst vor dem Tod” daran unser Leben richtig zu leben. Um den Stress in Bezug auf diese zwei machtvollen Aspekte zu transformieren nutzen wir bei dieser Balance das Atmen zur Reprogrammierung dieser negativen Einflüsse in unserem Leben. So kannst Du Dich mehr an das Leben binden und es genießen. \nSURROGATE BALANCING (Balance in Stellvertretung)\nDies ist eine unglaublich tolle Möglichkeit für “Veränderung auch bei Entfernung”: Bei der Stellvertretung arbeitet eine stellvertretende Person durch Muskeltesten und Balancieren für eine abwesende Person\, für welche die Veränderungsarbeit getan wird. Die Stellvertretung eröffnet ein riesiges Feld und kann unter anderem auch verwendet werden\, um Freunden\, Verwandten und sogar Tieren die nötige Unterstützung zu geben! \n\n\n\n\n\n\nRELATIONSHIP BALANCE (Beziehungsbalance)\nDiese Balance hilft Dir persönliche\, zwischenmenschliche Themen zu transformieren und jede Beziehung besser zu verstehen. Sie bietet Dir eine klarere Perspektive für den Wert jeglicher Art von Beziehungen\, wie z.B. die Eltern/ Kind Beziehung\, die Beziehung zwischen Ehepartnern\, Freunden\, Liebenden\, zwischen Führungspersonen und deren Mitarbeiter\, zwischen Dir und Geld uvm. \nRAPPORT (Verbindung)\nDu lernst\, wie Du in Minutenschnelle ein tiefes Gefühl von Vertrauen und Sicherheit mit anderen schaffst\, was es leichter macht Themen zu identifizieren\, die andernfalls schwierig sein könnten anzuerkennen und zu verändern. \nENERGY FOCUSING (Energie fokussieren)\nDieser sichere und effektive Prozess ermöglicht uns Energie auf einen Überzeugungspunkt zu richten\, um dadurch unterbewusste Überzeugungen schnell und einfach zu verändern. \n\n\nENERGY CIRCLE (Energiekreis)\nDer Energiekreis ist eine außergewöhnliche Erfahrung in der Anwendung von kollektivem Energiefokussieren. Er gibt Dir die Möglichkeit die wundervolle Wirkung von konzentrierter\, bedingungsloser Liebe zu fühlen \n\n\n\n\n  \nInvestition \n1.500\,– CHF * \n* ohne MwSt. nur für Rechnung in die Schweiz; für Rechnung in alle anderen Länder zzgl. 21% MwSt. \n  \nWorkshopleitung \nSabrina Kiermaier\, international zertifizierte PSYCH-K®-Ausbilderin \n  \nInformation & Organisation \nDaniel Fischbacher \n+34 609 641 533 \ninfo@dafcoaching.com \n  \n\nAnmeldung\n\nBitte schreibe mir eine Mail an: \ninfo@dafcoaching.com
URL:https://dafcoaching.com/event/psych-k-advanced-workshop-in-winterthur-juni-2025/
ATTACH;FMTTYPE=image/webp:https://dafcoaching.com/wp-content/uploads/2024/04/PSYCH-K-Workshops-in-Winterthur-mit-Mica-Gellert-1024x683-1.webp
END:VEVENT
BEGIN:VEVENT
DTSTART;TZID=Europe/Berlin:20250516T100000
DTEND;TZID=Europe/Berlin:20250518T160000
DTSTAMP:20260422T152334
CREATED:20250204T112648Z
LAST-MODIFIED:20250204T162032Z
UID:204-1747389600-1747584000@dafcoaching.com
SUMMARY:PSYCH-K® Basic Workshop in Winterthur
DESCRIPTION:Termin \nFreitag bis Sonntag\, 16. bis 18. Mai 2025\n \n  \nZeit \nFreitag\, 10:00 – 18:00 Uhr \nSamstag\, 9:0o – 17:00 Uhr \nSonntag: 9:00 bis ca. 16:00 Uhr \n  \nVeranstaltungsort \nMehrzweckanlage Teuchelweiher\nZeughausstrasse 65/67/69\n8400 Winterthur\nSchweiz \n \nBeschreibung \n \nIn diesem interaktiven drei-tägigen Workshop lernst Du machtvolle und effektive Werkzeuge um sowohl signifikante\, als auch nachhaltige geistige\, physische und emotionale Veränderungen zu erreichen. \n  \nInvestition \n1.110\,– CHF * \nStudenten\, Arbeitslose oder wer sich zu zweit oder mit mehreren gleichzeitig anmeldet\, bezahlt 1.000\,– CHF * pro Person (jede Person spart 100\,– CHF). \n* ohne MwSt. nur für Rechnung in die Schweiz; für Rechnung in alle anderen Länder zzgl. 21% MwSt. \nzzgl. Kosten für Unterkunft und Verpflegung \n  \nWorkshopleitung \nSabrina Kiermaier\, international zertifizierte PSYCH-K®-Ausbilderin \n  \nInformation & Organisation \nDaniel Fischbacher \n+34 609 641 533 \ninfo@dafcoaching.com \n  \n\nAnmeldung\n\nBitte schreibe mir eine Mail an: \ninfo@dafcoaching.com
URL:https://dafcoaching.com/event/psych-k-basic-workshop-in-winterthur-mai-2025/
ATTACH;FMTTYPE=image/webp:https://dafcoaching.com/wp-content/uploads/2024/04/PSYCH-K-Workshops-in-Winterthur-mit-Mica-Gellert-1024x683-1.webp
END:VEVENT
BEGIN:VEVENT
DTSTART;TZID=Europe/Berlin:20250410T100000
DTEND;TZID=Europe/Berlin:20250413T160000
DTSTAMP:20260422T152334
CREATED:20240707T144051Z
LAST-MODIFIED:20250204T111654Z
UID:189-1744279200-1744560000@dafcoaching.com
SUMMARY:PSYCH-K ® Master Facilitation Workshop
DESCRIPTION:Termin \nDonnerstag bis Sonntag\, 10. bis 13. April 2025\n \n  \nZeit \nDonnerstag\, 10.4.25\, 10:00 – 18:00 Uhr \nFreitag\, 11.4.25\, 9:00 – 18:00 Uhr \nSamstag\, 12.4.25\,  9:0o – 18:00 Uhr \nSonntag\, 13.4.25\,  9:00 bis ca. 16:00 Uhr \n  \nVeranstaltungsort \nMehrzweckanlage Teuchelweiher\nZeughausstrasse 65/67/69\n8400 Winterthur\nSchweiz \n \nBeschreibung \nWenn du mit PSYCH-K® beruflich arbeiten möchtest ist der MFW ein Muss. Egal ob vor Ort oder online.\nIm MFW praktizierst du in Echtzeit eine PSYCH-K Session 1:1\, als Telefon- und auch als Video Session.\nEine sehr bereichernde Erfahrung als Begleiter und als Partner. \nLerne\, wie du mit Ängsten\, Depressionen\, Stress und Traumata arbeitest\, auf Entfernung begleitest\, Botschaften in Situationen oder gesundheitlichen Zuständen findest\, effektive Sitzungen von Anfang bis Ende führst\, ob online\, per Telefon oder vor Ort und als PSYCH-K® Begleiter deine Positionierung findest. \n  \nInvestition \n1.600\,– CHF * \n* ohne MwSt. nur für Rechnung in die Schweiz; für Rechnung in alle anderen Länder zzgl. 21% MwSt. \nzzgl. Kosten für Unterkunft und Verpflegung \n  \nWorkshopleitung \nSabrina Kiermaier\, international zertifizierte PSYCH-K®-Ausbilderin \n  \nInformation & Organisation \nDaniel Fischbacher \n+34 609 641 533 \ninfo@dafcoaching.com \n  \n\nAnmeldung\n\nBitte schreibe mir eine Mail an: \ninfo@dafcoaching.com
URL:https://dafcoaching.com/event/psych-k-mfw-april-2025/
LOCATION:CH- MZA Teuchelweiher · Winterthur\, Wildbachstrasse 16\, Winterthur\, Zürich\, 8400\, Schweiz
ATTACH;FMTTYPE=image/webp:https://dafcoaching.com/wp-content/uploads/2024/04/PSYCH-K-Workshops-in-Winterthur-mit-Mica-Gellert-1024x683-1.webp
END:VEVENT
BEGIN:VEVENT
DTSTART;TZID=Europe/Berlin:20240531T100000
DTEND;TZID=Europe/Berlin:20240602T160000
DTSTAMP:20260422T152334
CREATED:20240403T090001Z
LAST-MODIFIED:20250204T162007Z
UID:76-1717149600-1717344000@dafcoaching.com
SUMMARY:PSYCH-K® Basic Workshop in Winterthur
DESCRIPTION:Termin \nFreitag bis Sonntag\, 31. Mai bis 2. Juni 2024\n \n  \nZeit \nFreitag\, 10:00 – 18:00 Uhr \nSamstag\, 9:0o – 17:00 Uhr \nSonntag: 9:00 bis ca. 16:00 Uhr \n  \nVeranstaltungsort \nMehrzweckanlage Teuchelweiher\nZeughausstrasse 65/67/69\n8400 Winterthur\nSchweiz \n \nBeschreibung \nIn diesem interaktiven drei-tägigen Workshop lernst Du machtvolle und effektive Werkzeuge um sowohl signifikante\, als auch nachhaltige geistige\, physische und emotionale Veränderungen zu erreichen. \n  \nInvestition \n1.110\,– CHF * \nStudenten\, Arbeitslose oder wer sich zu zweit oder mit mehreren gleichzeitig anmeldet\, bezahlt 1.000\,– CHF * pro Person (jede Person spart 100\,– CHF). \n* ohne MwSt. nur für Rechnung in die Schweiz; für Rechnung in alle anderen Länder zzgl. 21% MwSt. \n  \nWorkshopleitung \nSabrina Kiermaier\, international zertifizierte PSYCH-K®-Ausbilderin \n  \nInformation & Organisation \nDaniel Fischbacher \n+34 609 641 533 \ninfo@dafcoaching.com \n  \n\nAnmeldung\n\nBitte schreibe mir eine Mail an: \ninfo@dafcoaching.com
URL:https://dafcoaching.com/event/psych-k-basic-winterthur-juni-2025/
LOCATION:CH- MZA Teuchelweiher · Winterthur\, Wildbachstrasse 16\, Winterthur\, Zürich\, 8400\, Schweiz
ATTACH;FMTTYPE=image/webp:https://dafcoaching.com/wp-content/uploads/2024/04/PSYCH-K-Workshops-in-Winterthur-mit-Mica-Gellert-1024x683-1.webp
END:VEVENT
END:VCALENDAR